BEGIN:VCALENDAR
VERSION:2.0
PRODID:-//IIDA Masaharu 飯田雅春 Official Website - ECPv5.1.4//NONSGML v1.0//EN
CALSCALE:GREGORIAN
METHOD:PUBLISH
X-WR-CALNAME:IIDA Masaharu 飯田雅春 Official Website
X-ORIGINAL-URL:https://www.iidamasaharu.com
X-WR-CALDESC:IIDA Masaharu 飯田雅春 Official Website のイベント
BEGIN:VTIMEZONE
TZID:Asia/Tokyo
BEGIN:STANDARD
TZOFFSETFROM:+0900
TZOFFSETTO:+0900
TZNAME:JST
DTSTART:20210101T000000
END:STANDARD
END:VTIMEZONE
BEGIN:VEVENT
DTSTART;TZID=Asia/Tokyo:20210918T183000
DTEND;TZID=Asia/Tokyo:20210918T183000
DTSTAMP:20260424T141806
CREATED:20210821T062431Z
LAST-MODIFIED:20210909T050339Z
UID:1652-1631989800-1631989800@www.iidamasaharu.com
SUMMARY:岡山 MO:GLA・HABUBAN Live Tour 2021
DESCRIPTION:【開演時刻が変更となりました】\nHABUBAN\nLIVE TOUR 2021 〜風ひびく〜 \n色彩と躍動のドラマー 羽生一子、ソウルに響く歌声の鈴木麻美、そしてジャズ界の実力派メンバー達からなるHABUBANのファーストツアー！！\nボサノバ、レゲエ、ソウル、感涙のバラードやジャンルを超えたオリジナルソングと共に、心も体も温まるステージをお届けします！\n【羽生一子 HABUBAN】\n羽生一子 ds\n鈴木麻美 vo\n高木慎二 sax\n天野 丘 g\n加藤英介 p\, key\n飯田雅春 el.b  \nwith\n【One Love Orchestra】\n竹本洋朗 ds 清水タケオ vo\, g コジマサナエ vo みっちぃ g 吉原理子 sax 鈴木孝治 b 雨月 g \n@岡山 MO:GLA\nOpen 17:00/ Start 17:30\n予約 ¥2\,500 当日 ¥3\,000（Drink別）\n岡山市北区中央町3-17 橋本興産第一ビル 地下１階\nお問合せ 086-235-3277  info@mo-gla.com\nご予約はこちら \n
URL:https://www.iidamasaharu.com/event/20210918/
LOCATION:MO:GLA\, 北区中央町3-17 橋本興産第一ビル 地下１階\, 岡山市\, 岡山県
CATEGORIES:HABUBAN
ATTACH;FMTTYPE=image/jpeg:https://www.iidamasaharu.com/wp-content/uploads/2021/08/960ac6a9af9ff02933f1fb2b6c7fe115.jpg
END:VEVENT
END:VCALENDAR