BEGIN:VCALENDAR
VERSION:2.0
PRODID:-//IIDA Masaharu 飯田雅春 Official Website - ECPv5.1.4//NONSGML v1.0//EN
CALSCALE:GREGORIAN
METHOD:PUBLISH
X-WR-CALNAME:IIDA Masaharu 飯田雅春 Official Website
X-ORIGINAL-URL:https://www.iidamasaharu.com
X-WR-CALDESC:IIDA Masaharu 飯田雅春 Official Website のイベント
BEGIN:VTIMEZONE
TZID:Asia/Tokyo
BEGIN:STANDARD
TZOFFSETFROM:+0900
TZOFFSETTO:+0900
TZNAME:JST
DTSTART:20220101T000000
END:STANDARD
END:VTIMEZONE
BEGIN:VEVENT
DTSTART;TZID=Asia/Tokyo:20220924T193000
DTEND;TZID=Asia/Tokyo:20220924T193000
DTSTAMP:20260422T111312
CREATED:20220830T143220Z
LAST-MODIFIED:20220830T143220Z
UID:2214-1664047800-1664047800@www.iidamasaharu.com
SUMMARY:山形 ノイジーダック・成川修士Trio with 横澤徹
DESCRIPTION:成川修士trio 「せぴあ〜Guitar Trio〜」CD発売記念ツアー\n成川修士 g\n飯田雅春 b\n安藤正則 ds\nGuest 横澤徹 sax\n@山形 ノイジーダック\n予約￥3\,500 当日￥4\,000（ドリンク別） / open 19:00 start 19:30\n山形市七日町 3丁目3-31 / 0236336506\n予約フォーム \n
URL:https://www.iidamasaharu.com/event/20220924/
LOCATION:Noisy Duck\, 七日町３丁目３－３１\, 山形市
CATEGORIES:成川修士
ATTACH;FMTTYPE=image/jpeg:https://www.iidamasaharu.com/wp-content/uploads/2022/08/338aca62e83e6f48527b9a99a9804df9.jpg
END:VEVENT
END:VCALENDAR