BEGIN:VCALENDAR
VERSION:2.0
PRODID:-//IIDA Masaharu 飯田雅春 Official Website - ECPv5.1.4//NONSGML v1.0//EN
CALSCALE:GREGORIAN
METHOD:PUBLISH
X-WR-CALNAME:IIDA Masaharu 飯田雅春 Official Website
X-ORIGINAL-URL:https://www.iidamasaharu.com
X-WR-CALDESC:IIDA Masaharu 飯田雅春 Official Website のイベント
BEGIN:VTIMEZONE
TZID:Asia/Tokyo
BEGIN:STANDARD
TZOFFSETFROM:+0900
TZOFFSETTO:+0900
TZNAME:JST
DTSTART:20260101T000000
END:STANDARD
END:VTIMEZONE
BEGIN:VEVENT
DTSTART;TZID=Asia/Tokyo:20260427T193000
DTEND;TZID=Asia/Tokyo:20260427T193000
DTSTAMP:20260424T070210
CREATED:20260309T132440Z
LAST-MODIFIED:20260309T132440Z
UID:3597-1777318200-1777318200@www.iidamasaharu.com
SUMMARY:青山 Zimagine・BBQ
DESCRIPTION:黒沢綾 vocal\n中島香里 vib\n飯田雅春 b\n安藤正則 ds\n＠青山･ live space ZIMAGINE\n港区南青山6-2-13 ファイン青山B1\nOpen 19:00 Start 19:30 /予約￥3\,500 当日￥4\,000（別途1ドリンクオーダー） \n
URL:https://www.iidamasaharu.com/event/20260427/
LOCATION:Zimagine\, 東京都港区南青山6-2-13 ファイン青山B1
CATEGORIES:BBQ
ATTACH;FMTTYPE=image/png:https://www.iidamasaharu.com/wp-content/uploads/2025/03/BBQ-1.png
END:VEVENT
END:VCALENDAR