BEGIN:VCALENDAR
VERSION:2.0
PRODID:-//IIDA Masaharu 飯田雅春 Official Website - ECPv5.1.4//NONSGML v1.0//EN
CALSCALE:GREGORIAN
METHOD:PUBLISH
X-WR-CALNAME:IIDA Masaharu 飯田雅春 Official Website
X-ORIGINAL-URL:https://www.iidamasaharu.com
X-WR-CALDESC:IIDA Masaharu 飯田雅春 Official Website のイベント
BEGIN:VTIMEZONE
TZID:Asia/Tokyo
BEGIN:STANDARD
TZOFFSETFROM:+0900
TZOFFSETTO:+0900
TZNAME:JST
DTSTART:20260101T000000
END:STANDARD
END:VTIMEZONE
BEGIN:VEVENT
DTSTART;TZID=Asia/Tokyo:20260508T200000
DTEND;TZID=Asia/Tokyo:20260508T200000
DTSTAMP:20260424T065645
CREATED:20260309T132604Z
LAST-MODIFIED:20260309T132636Z
UID:3599-1778270400-1778270400@www.iidamasaharu.com
SUMMARY:大塚ドンファン・Toshi Nagai Special Live
DESCRIPTION:HIDE p\n原川誠司 sax\n飯田雅春 b\nToshi Nagai ds \n@大塚・ドンファン\n豊島区南大塚 2-32-8 KMビルB1/ 03-3945-0529\nstart20:00 / charge:￥4\,000  \n
URL:https://www.iidamasaharu.com/event/20260508/
LOCATION:ドンファン\, 東京都豊島区南大塚２丁目３２−８
CATEGORIES:HIDE,Toshi Nagai
ATTACH;FMTTYPE=image/png:https://www.iidamasaharu.com/wp-content/uploads/2025/03/HIDETOSHINAGAI.png
END:VEVENT
END:VCALENDAR