BEGIN:VCALENDAR
VERSION:2.0
PRODID:-//IIDA Masaharu 飯田雅春 Official Website - ECPv5.1.4//NONSGML v1.0//EN
CALSCALE:GREGORIAN
METHOD:PUBLISH
X-WR-CALNAME:IIDA Masaharu 飯田雅春 Official Website
X-ORIGINAL-URL:https://www.iidamasaharu.com
X-WR-CALDESC:IIDA Masaharu 飯田雅春 Official Website のイベント
BEGIN:VTIMEZONE
TZID:Asia/Tokyo
BEGIN:STANDARD
TZOFFSETFROM:+0900
TZOFFSETTO:+0900
TZNAME:JST
DTSTART:20260101T000000
END:STANDARD
END:VTIMEZONE
BEGIN:VEVENT
DTSTART;TZID=Asia/Tokyo:20260528T140000
DTEND;TZID=Asia/Tokyo:20260528T163000
DTSTAMP:20260424T070103
CREATED:20260309T133548Z
LAST-MODIFIED:20260309T133559Z
UID:3604-1779976800-1779985800@www.iidamasaharu.com
SUMMARY:新宿 Pitinn 昼の部 ・成川修士Trio
DESCRIPTION:成川修士 g\n飯田雅春 b\n安藤正則 ds\n@新宿・ピットイン\nopen 13:30 start 14:00 / ￥1\,430- w/1drink\n160-0022 東京都新宿区新宿2-12-4アコード新宿B1/ 03-3354-2024 \n
URL:https://www.iidamasaharu.com/event/20260528/
LOCATION:Pit-inn\, 東京都新宿区新宿2-12-4アコード新宿B1
CATEGORIES:成川修士
ATTACH;FMTTYPE=image/png:https://www.iidamasaharu.com/wp-content/uploads/2025/01/818453639236bdc3beeda8eee4be2189.png
END:VEVENT
END:VCALENDAR